BEGIN:VCALENDAR
VERSION:2.0
PRODID:-//The Cabin Armory &amp; Training Center | Indoor Gun Range &amp; Gun Store in Wilkes-Barre, Pennsylvania - ECPv4.9.14//NONSGML v1.0//EN
CALSCALE:GREGORIAN
METHOD:PUBLISH
X-WR-CALNAME:The Cabin Armory &amp; Training Center | Indoor Gun Range &amp; Gun Store in Wilkes-Barre, Pennsylvania
X-ORIGINAL-URL:https://cabinrange.com
X-WR-CALDESC:Events for The Cabin Armory &amp; Training Center | Indoor Gun Range &amp; Gun Store in Wilkes-Barre, Pennsylvania
BEGIN:VTIMEZONE
TZID:America/New_York
BEGIN:DAYLIGHT
TZOFFSETFROM:-0500
TZOFFSETTO:-0400
TZNAME:EDT
DTSTART:20190310T070000
END:DAYLIGHT
BEGIN:STANDARD
TZOFFSETFROM:-0400
TZOFFSETTO:-0500
TZNAME:EST
DTSTART:20191103T060000
END:STANDARD
END:VTIMEZONE
BEGIN:VEVENT
DTSTART;TZID=America/New_York:20191017T170000
DTEND;TZID=America/New_York:20191017T190000
DTSTAMP:20260420T102658
CREATED:20191002T195933Z
LAST-MODIFIED:20191002T195933Z
UID:2262-1571331600-1571338800@cabinrange.com
SUMMARY:Intermediate Handgun
DESCRIPTION:\n\nClass length: 2 hours (1 hour classroom / 1 hour range) \nWho is this class for? \nThis class is for students who own their own firearm and can demonstrate safe handling and operation. \nStudents should be able to load\, unload\, fire and show that their firearm is cleared. \nPrerequisites: One of the following: \nNRA Basic Pistol (show certificate if not taken at The Cabin) \nHandgun Fundamentals \nPass a pre-class qualification \n  \nNumber of Participants:  Minimum: 2     Maximum: 6 \nCost:  $60 \nRounds: 100 \nEquipment: Personal firearm /At least 2 magazines (semi)\, at least 2 speed loaders (revolver) \n\n\n
URL:https://cabinrange.com/event/intermediate-handgun-8/
CATEGORIES:Classes
END:VEVENT
END:VCALENDAR