BEGIN:VCALENDAR
VERSION:2.0
PRODID:-//The Cabin Armory &amp; Training Center | Indoor Gun Range &amp; Gun Store in Wilkes-Barre, Pennsylvania - ECPv4.9.14//NONSGML v1.0//EN
CALSCALE:GREGORIAN
METHOD:PUBLISH
X-WR-CALNAME:The Cabin Armory &amp; Training Center | Indoor Gun Range &amp; Gun Store in Wilkes-Barre, Pennsylvania
X-ORIGINAL-URL:https://cabinrange.com
X-WR-CALDESC:Events for The Cabin Armory &amp; Training Center | Indoor Gun Range &amp; Gun Store in Wilkes-Barre, Pennsylvania
BEGIN:VTIMEZONE
TZID:America/New_York
BEGIN:DAYLIGHT
TZOFFSETFROM:-0500
TZOFFSETTO:-0400
TZNAME:EDT
DTSTART:20220313T070000
END:DAYLIGHT
BEGIN:STANDARD
TZOFFSETFROM:-0400
TZOFFSETTO:-0500
TZNAME:EST
DTSTART:20221106T060000
END:STANDARD
END:VTIMEZONE
BEGIN:VEVENT
DTSTART;TZID=America/New_York:20220723T090000
DTEND;TZID=America/New_York:20220723T150000
DTSTAMP:20260420T083529
CREATED:20220625T135621Z
LAST-MODIFIED:20220625T135621Z
UID:2721-1658566800-1658588400@cabinrange.com
SUMMARY:PA Game Commission Hunters Safety Education Class
DESCRIPTION:The Cabin is hosting the Hunters Safety Education Class on Saturday\, July 23rd\, 2022. The class is limited to 50 people\, and registration must be completed on the Pennsylvania Game Commission website (www.pgc.pa.gov).\nClick on ‘education’ at the top of the page\, then choose Hunter Trapper Ed.\nClick on register for a class\nUnder basic click on Hunter Trapper Ed\nScroll down until you see The Cabin Armory and Training Center and follow directions to register.\nSign in will begin at 8:30am\, and there is no charge for the class. The class runs from 9:00am. to approximately 3:00pm.\nLunch will be available to purchase. \n
URL:https://cabinrange.com/event/pa-game-commission-hunters-safety-education-class/
CATEGORIES:Classes,Seminars
END:VEVENT
END:VCALENDAR