BEGIN:VCALENDAR
VERSION:2.0
PRODID:-//The Cabin Armory &amp; Training Center | Indoor Gun Range &amp; Gun Store in Wilkes-Barre, Pennsylvania - ECPv4.9.14//NONSGML v1.0//EN
CALSCALE:GREGORIAN
METHOD:PUBLISH
X-WR-CALNAME:The Cabin Armory &amp; Training Center | Indoor Gun Range &amp; Gun Store in Wilkes-Barre, Pennsylvania
X-ORIGINAL-URL:https://cabinrange.com
X-WR-CALDESC:Events for The Cabin Armory &amp; Training Center | Indoor Gun Range &amp; Gun Store in Wilkes-Barre, Pennsylvania
BEGIN:VTIMEZONE
TZID:America/New_York
BEGIN:DAYLIGHT
TZOFFSETFROM:-0500
TZOFFSETTO:-0400
TZNAME:EDT
DTSTART:20190310T070000
END:DAYLIGHT
BEGIN:STANDARD
TZOFFSETFROM:-0400
TZOFFSETTO:-0500
TZNAME:EST
DTSTART:20191103T060000
END:STANDARD
END:VTIMEZONE
BEGIN:VEVENT
DTSTART;TZID=America/New_York:20190519T120000
DTEND;TZID=America/New_York:20190519T140000
DTSTAMP:20260424T130236
CREATED:20190514T213136Z
LAST-MODIFIED:20190514T213136Z
UID:1949-1558267200-1558274400@cabinrange.com
SUMMARY:Intermediate Handgun
DESCRIPTION:\n\nClass length: 2 hours (1 hour classroom / 1 hour range) \nWho is this class for? \nThis class is for students who own their own firearm and can demonstrate safe handling and operation. \nStudents should be able to load\, unload\, fire and show that their firearm is cleared. \nPrerequisites: One of the following: \nNRA Basic Pistol (show certificate if not taken at The Cabin) \nHandgun Fundamentals \nPass a pre-class qualification \n  \nNumber of Participants:  Minimum: 2     Maximum: 6 \nCost:  $60 \nRounds: 100 \nEquipment: Personal firearm /At least 2 magazines (semi)\, at least 2 speed loaders (revolver) \n\n\n
URL:https://cabinrange.com/event/intermediate-handgun/
CATEGORIES:Classes
END:VEVENT
BEGIN:VEVENT
DTSTART;TZID=America/New_York:20190519T150000
DTEND;TZID=America/New_York:20190519T170000
DTSTAMP:20260424T130236
CREATED:20190514T215901Z
LAST-MODIFIED:20190514T215901Z
UID:1951-1558278000-1558285200@cabinrange.com
SUMMARY:Advanced Concealed Carry
DESCRIPTION:\n\nClass length:  2 Hours (½ hour classroom / 1 ½ hours range) \n  \nWho is this class for? \nThis class is for individuals who want to learn how to draw and shoot with an everyday concealed carry firearm for personal protection. \nParticipants will learn and practice drawing from the holster\, clearing concealment garments and defensive shooting techniques. \n  \nPrerequisites: Basic Concealed Carry and one of the following: \nNRA Basic Pistol \nHandgun Fundamentals \n  \nNumber of Participants:  Minimum:  2    Maximum:  5 \nCost:  $60 \n  \nRounds: 100 \nEquipment: Personal firearm (Must be approved by instructor) \nOutside the waistband/strong-side holster \nNo pocket\, or shoulder holsters \n\n\n
URL:https://cabinrange.com/event/advanced-concealed-carry/
CATEGORIES:Classes
END:VEVENT
END:VCALENDAR