BEGIN:VCALENDAR
VERSION:2.0
PRODID:-//The Cabin Armory &amp; Training Center | Indoor Gun Range &amp; Gun Store in Wilkes-Barre, Pennsylvania - ECPv4.9.14//NONSGML v1.0//EN
CALSCALE:GREGORIAN
METHOD:PUBLISH
X-WR-CALNAME:The Cabin Armory &amp; Training Center | Indoor Gun Range &amp; Gun Store in Wilkes-Barre, Pennsylvania
X-ORIGINAL-URL:https://cabinrange.com
X-WR-CALDESC:Events for The Cabin Armory &amp; Training Center | Indoor Gun Range &amp; Gun Store in Wilkes-Barre, Pennsylvania
BEGIN:VTIMEZONE
TZID:America/New_York
BEGIN:DAYLIGHT
TZOFFSETFROM:-0500
TZOFFSETTO:-0400
TZNAME:EDT
DTSTART:20190310T070000
END:DAYLIGHT
BEGIN:STANDARD
TZOFFSETFROM:-0400
TZOFFSETTO:-0500
TZNAME:EST
DTSTART:20191103T060000
END:STANDARD
END:VTIMEZONE
BEGIN:VEVENT
DTSTART;TZID=America/New_York:20190526T130000
DTEND;TZID=America/New_York:20190526T150000
DTSTAMP:20260424T113711
CREATED:20190515T163236Z
LAST-MODIFIED:20190515T163236Z
UID:1970-1558875600-1558882800@cabinrange.com
SUMMARY:Situational Awareness Seminar
DESCRIPTION:Situational Awareness is a frame of mind in which you are relaxed\, yet aware of your surroundings and of whom or what could be of help to you if a problem were to arise. \nIn these seminars you will learn how to develop the proper mindset to take responsibility for your own security\, and to trust your intuition or “gut” feelings when it comes to your surroundings. \nSeminars can be designed for schools\, places of worship\, or your workplace. \n$20 \nhttps://www.inner10training.com/ \n
URL:https://cabinrange.com/event/situational-awareness-seminar/
CATEGORIES:Seminars
END:VEVENT
BEGIN:VEVENT
DTSTART;TZID=America/New_York:20190526T160000
DTEND;TZID=America/New_York:20190526T180000
DTSTAMP:20260424T113711
CREATED:20190515T165124Z
LAST-MODIFIED:20190515T165124Z
UID:1974-1558886400-1558893600@cabinrange.com
SUMMARY:Advanced Concealed Carry
DESCRIPTION:\n\nClass length:  2 Hours (½ hour classroom / 1 ½ hours range) \n  \nWho is this class for? \nThis class is for individuals who want to learn how to draw and shoot with an everyday concealed carry firearm for personal protection. \nParticipants will learn and practice drawing from the holster\, clearing concealment garments and defensive shooting techniques. \n  \nPrerequisites: Basic Concealed Carry and one of the following: \nNRA Basic Pistol \nHandgun Fundamentals \n  \nNumber of Participants:  Minimum:  2    Maximum:  5 \nCost:  $60 \n  \nRounds: 100 \nEquipment: Personal firearm (Must be approved by instructor) \nOutside the waistband/strong-side holster \nNo pocket\, or shoulder holsters \n\n\n
URL:https://cabinrange.com/event/advanced-concealed-carry-2/
CATEGORIES:Classes
END:VEVENT
END:VCALENDAR