BEGIN:VCALENDAR
VERSION:2.0
PRODID:-//The Cabin Armory &amp; Training Center | Indoor Gun Range &amp; Gun Store in Wilkes-Barre, Pennsylvania - ECPv4.9.14//NONSGML v1.0//EN
CALSCALE:GREGORIAN
METHOD:PUBLISH
X-WR-CALNAME:The Cabin Armory &amp; Training Center | Indoor Gun Range &amp; Gun Store in Wilkes-Barre, Pennsylvania
X-ORIGINAL-URL:https://cabinrange.com
X-WR-CALDESC:Events for The Cabin Armory &amp; Training Center | Indoor Gun Range &amp; Gun Store in Wilkes-Barre, Pennsylvania
BEGIN:VTIMEZONE
TZID:America/New_York
BEGIN:DAYLIGHT
TZOFFSETFROM:-0500
TZOFFSETTO:-0400
TZNAME:EDT
DTSTART:20190310T070000
END:DAYLIGHT
BEGIN:STANDARD
TZOFFSETFROM:-0400
TZOFFSETTO:-0500
TZNAME:EST
DTSTART:20191103T060000
END:STANDARD
END:VTIMEZONE
BEGIN:VEVENT
DTSTART;TZID=America/New_York:20190620T140000
DTEND;TZID=America/New_York:20190620T160000
DTSTAMP:20260424T111044
CREATED:20190601T143720Z
LAST-MODIFIED:20190601T143720Z
UID:2014-1561039200-1561046400@cabinrange.com
SUMMARY:Intermediate Handgun
DESCRIPTION:\n\nClass length: 2 hours (1 hour classroom / 1 hour range) \nWho is this class for? \nThis class is for students who own their own firearm and can demonstrate safe handling and operation. \nStudents should be able to load\, unload\, fire and show that their firearm is cleared. \nPrerequisites: One of the following: \nNRA Basic Pistol (show certificate if not taken at The Cabin) \nHandgun Fundamentals \nPass a pre-class qualification \n  \nNumber of Participants:  Minimum: 2     Maximum: 6 \nCost:  $60 \nRounds: 100 \nEquipment: Personal firearm /At least 2 magazines (semi)\, at least 2 speed loaders (revolver) \n\n\n
URL:https://cabinrange.com/event/intermediate-handgun-3/
CATEGORIES:Classes
END:VEVENT
BEGIN:VEVENT
DTSTART;TZID=America/New_York:20190620T140000
DTEND;TZID=America/New_York:20190620T160000
DTSTAMP:20260424T111044
CREATED:20190601T144123Z
LAST-MODIFIED:20190601T144123Z
UID:2016-1561039200-1561046400@cabinrange.com
SUMMARY:Handguns 101
DESCRIPTION:Class length:  2 hours (1 ½ hours classroom / ½ hour range) \nWho is this class for? \nThis class is for beginner students who want to learn how to purchase\, operate and shoot revolvers and semi-automatic handguns. \nThere are no prerequisites for this class. \n.22LR firearms and 50 rounds of ammunition provided \nPrerequisites: None \nNumber of Participants:  Minimum: 2     Maximum: 6 \nCost:  $50.00 \nEquipment provided: \n.22LR Revolver & semi-auto \n50 rounds of .22LR ammunition \nEar and eye protection \nTargets \n
URL:https://cabinrange.com/event/handguns-101-2/
CATEGORIES:Classes
END:VEVENT
BEGIN:VEVENT
DTSTART;TZID=America/New_York:20190620T160000
DTEND;TZID=America/New_York:20190620T200000
DTSTAMP:20260424T111044
CREATED:20190601T144822Z
LAST-MODIFIED:20190601T144822Z
UID:2018-1561046400-1561060800@cabinrange.com
SUMMARY:NRA Basics of Rifle Shooting Part 1
DESCRIPTION:This course teaches the basic knowledge\, skills and attitude necessary for the safe use of a rifle in target shooting.  This course is at least eight hours long and includes classroom and range time learning to shoot rifles. Students learn NRA’s rules for safe gun handling; rifle parts and operation; ammunition; shooting fundamentals; range rules; shooting from the bench rest\, prone\, sitting\, standing and kneeling positions; cleaning; and continued opportunities for skill development. Students will receive the Basics of Rifle Shooting handbook\, NRA Gun Safety Rules brochure\, Winchester/NRA Marksmanship Qualification booklet\, take a Basics of Rifle Shooting Student Examination\, and receive a course completion certificate. \n$75 \n
URL:https://cabinrange.com/event/nra-basics-of-rifle-shooting-part-1/
CATEGORIES:Classes
END:VEVENT
END:VCALENDAR