BEGIN:VCALENDAR
VERSION:2.0
PRODID:-//The Cabin Armory &amp; Training Center | Indoor Gun Range &amp; Gun Store in Wilkes-Barre, Pennsylvania - ECPv4.9.14//NONSGML v1.0//EN
CALSCALE:GREGORIAN
METHOD:PUBLISH
X-WR-CALNAME:The Cabin Armory &amp; Training Center | Indoor Gun Range &amp; Gun Store in Wilkes-Barre, Pennsylvania
X-ORIGINAL-URL:https://cabinrange.com
X-WR-CALDESC:Events for The Cabin Armory &amp; Training Center | Indoor Gun Range &amp; Gun Store in Wilkes-Barre, Pennsylvania
BEGIN:VTIMEZONE
TZID:America/New_York
BEGIN:DAYLIGHT
TZOFFSETFROM:-0500
TZOFFSETTO:-0400
TZNAME:EDT
DTSTART:20190310T070000
END:DAYLIGHT
BEGIN:STANDARD
TZOFFSETFROM:-0400
TZOFFSETTO:-0500
TZNAME:EST
DTSTART:20191103T060000
END:STANDARD
END:VTIMEZONE
BEGIN:VEVENT
DTSTART;TZID=America/New_York:20190625T100000
DTEND;TZID=America/New_York:20190628T150000
DTSTAMP:20260424T113155
CREATED:20190601T153311Z
LAST-MODIFIED:20190601T153311Z
UID:2028-1561456800-1561734000@cabinrange.com
SUMMARY:Kid's Summer Camp
DESCRIPTION:For ages 12 to 18 (11 with evaluation)\, no firearm experience necessary but students should be mature and have a respect for firearms. \nCost $200 includes firearms\, ammo\, and lunch on day 4 \nLimit: 10 students \nPreregistration required \nWeeks: June 25th\, July 16th\, Aug 13th  \nRuns Tuesday through Friday 10am – 3pm with ½ hour for lunch\nThe first three days will focus on a specific type of firearm: AR platform\, traditional rifles\, or pistol. Topics will include firearm safety\, shooting fundamentals\, history\, parts\, dry fire and live fire training (.22 cal). Day four will include a tri-gun tournament and a pizza party. \n
URL:https://cabinrange.com/event/kids-summer-camp/
CATEGORIES:Classes
END:VEVENT
BEGIN:VEVENT
DTSTART;TZID=America/New_York:20190626T170000
DTEND;TZID=America/New_York:20190626T210000
DTSTAMP:20260424T113155
CREATED:20190601T154426Z
LAST-MODIFIED:20190601T154426Z
UID:2034-1561568400-1561582800@cabinrange.com
SUMMARY:NRA Basics of Pistol Shooting Part 2
DESCRIPTION:\n\nClass length:  8 hours (7 hour classroom / 1 hour range) \nWho is this class for? \nThis class is for beginner students. \nDuring this 8 hour class\, students will spend 7 hours in the classroom learning about safe gun handling\, revolver and semi-auto parts & operation\, ammunition\, shooting fundamentals cleaning and storage. \nThey will then have 1 hour of instruction on the range to practice the shooting fundamentals with revolvers and semi-auto handguns. \n  \nPrerequisites: None \nNumber of Participants:  Minimum: 2     Maximum: 6 \nCost:  $150 \nEquipment: Firearms\, ammunition\, eye and ear protection provided. \n*Students may use their own firearm with instructor approval \n\n\n
URL:https://cabinrange.com/event/nra-basics-of-pistol-shooting-part-2/
CATEGORIES:Classes
END:VEVENT
END:VCALENDAR