BEGIN:VCALENDAR
VERSION:2.0
PRODID:-//The Cabin Armory &amp; Training Center | Indoor Gun Range &amp; Gun Store in Wilkes-Barre, Pennsylvania - ECPv4.9.14//NONSGML v1.0//EN
CALSCALE:GREGORIAN
METHOD:PUBLISH
X-WR-CALNAME:The Cabin Armory &amp; Training Center | Indoor Gun Range &amp; Gun Store in Wilkes-Barre, Pennsylvania
X-ORIGINAL-URL:https://cabinrange.com
X-WR-CALDESC:Events for The Cabin Armory &amp; Training Center | Indoor Gun Range &amp; Gun Store in Wilkes-Barre, Pennsylvania
BEGIN:VTIMEZONE
TZID:America/New_York
BEGIN:DAYLIGHT
TZOFFSETFROM:-0500
TZOFFSETTO:-0400
TZNAME:EDT
DTSTART:20190310T070000
END:DAYLIGHT
BEGIN:STANDARD
TZOFFSETFROM:-0400
TZOFFSETTO:-0500
TZNAME:EST
DTSTART:20191103T060000
END:STANDARD
END:VTIMEZONE
BEGIN:VEVENT
DTSTART;TZID=America/New_York:20190724T183000
DTEND;TZID=America/New_York:20190724T203000
DTSTAMP:20260424T094039
CREATED:20190620T175049Z
LAST-MODIFIED:20190620T175049Z
UID:2085-1563993000-1564000200@cabinrange.com
SUMMARY:The Legally Justified Use of Force and Deadly Force
DESCRIPTION:In the U.S.\, there are several situations in which a person is justified in using force or deadly force. Come to this seminar and learn: \nThe difference between “force” and “deadly force” \nWhen a person may use deadly force against another to protect themselves or a third person; \nWhether displaying a weapon constitutes the use of deadly force; \nAnd much\, much more… \nSIGN-UP NOW! LIMITED SPACES AVAILABLE! \nFREE for Members\n$10 Non-Member \nNot a member yet?  Join Now! http://bit.ly/2VH60yD \n
URL:https://cabinrange.com/event/the-legally-justified-use-of-force-and-deadly-force/
CATEGORIES:Seminars
END:VEVENT
END:VCALENDAR