BEGIN:VCALENDAR
VERSION:2.0
PRODID:-//The Cabin Armory &amp; Training Center | Indoor Gun Range &amp; Gun Store in Wilkes-Barre, Pennsylvania - ECPv4.9.14//NONSGML v1.0//EN
CALSCALE:GREGORIAN
METHOD:PUBLISH
X-WR-CALNAME:The Cabin Armory &amp; Training Center | Indoor Gun Range &amp; Gun Store in Wilkes-Barre, Pennsylvania
X-ORIGINAL-URL:https://cabinrange.com
X-WR-CALDESC:Events for The Cabin Armory &amp; Training Center | Indoor Gun Range &amp; Gun Store in Wilkes-Barre, Pennsylvania
BEGIN:VTIMEZONE
TZID:America/New_York
BEGIN:DAYLIGHT
TZOFFSETFROM:-0500
TZOFFSETTO:-0400
TZNAME:EDT
DTSTART:20190310T070000
END:DAYLIGHT
BEGIN:STANDARD
TZOFFSETFROM:-0400
TZOFFSETTO:-0500
TZNAME:EST
DTSTART:20191103T060000
END:STANDARD
END:VTIMEZONE
BEGIN:VEVENT
DTSTART;TZID=America/New_York:20190915T100000
DTEND;TZID=America/New_York:20190915T120000
DTSTAMP:20260424T064423
CREATED:20190827T184628Z
LAST-MODIFIED:20190828T195613Z
UID:2160-1568541600-1568548800@cabinrange.com
SUMMARY:Advanced Concealed Carry
DESCRIPTION:\n\nClass length:  2 Hours (½ hour classroom / 1 ½ hours range) \n  \nWho is this class for? \nThis class is for individuals who want to learn how to draw and shoot with an everyday concealed carry firearm for personal protection. \nParticipants will learn and practice drawing from the holster\, clearing concealment garments and defensive shooting techniques. \n  \nPrerequisites: Basic Concealed Carry and one of the following: \nNRA Basic Pistol \nHandgun Fundamentals \n  \nNumber of Participants:  Minimum:  2    Maximum:  5 \nCost:  $60 \n  \nRounds: 100 \nEquipment: Personal firearm (Must be approved by instructor) \nOutside the waistband/strong-side holster \nNo pocket\, or shoulder holsters \n\n\n
URL:https://cabinrange.com/event/advanced-concealed-carry-7/
CATEGORIES:Classes
END:VEVENT
BEGIN:VEVENT
DTSTART;TZID=America/New_York:20190915T100000
DTEND;TZID=America/New_York:20190915T140000
DTSTAMP:20260424T064423
CREATED:20190827T184756Z
LAST-MODIFIED:20190828T195723Z
UID:2162-1568541600-1568556000@cabinrange.com
SUMMARY:Handgun Fundamentals
DESCRIPTION:\n\nClass length:  4 hours (3 hour classroom / 1 hour range) \nWho is this class for? \nThis class is for beginner students\, and builds upon Handguns 101 and \nNSSF First Shots. \nDuring this 4 hour class\, students will spend 3 hours in the classroom learning about safe gun handling\, ammunition\, cartridge malfunctions\, shooting fundamentals\, cleaning and storage. \nThey will then have 1 hour of instruction on the range to practice the shooting fundamentals with revolvers and semi-auto handguns in various calibers. \nPrerequisites: Handguns 101 or NSSF First Shots. \nNumber of Participants:  Minimum: 2     Maximum: 6 \n  \nCost:  $75 \n  \nEquipment: Firearms\, ammunition\, eye and ear protection provided. \n*Students may use their own firearm with instructor approval. \n\n\n
URL:https://cabinrange.com/event/handgun-fundamentals-4/
CATEGORIES:Classes
END:VEVENT
BEGIN:VEVENT
DTSTART;TZID=America/New_York:20190915T100000
DTEND;TZID=America/New_York:20190915T120000
DTSTAMP:20260424T064423
CREATED:20190827T191158Z
LAST-MODIFIED:20190827T191158Z
UID:2174-1568541600-1568548800@cabinrange.com
SUMMARY:Handguns 101
DESCRIPTION:Class length:  2 hours (1 ½ hours classroom / ½ hour range) \nWho is this class for? \nThis class is for beginner students who want to learn how to purchase\, operate and shoot revolvers and semi-automatic handguns. \nThere are no prerequisites for this class. \n.22LR firearms and 50 rounds of ammunition provided \nPrerequisites: None \nNumber of Participants:  Minimum: 2     Maximum: 6 \nCost:  $50.00 \nEquipment provided: \n.22LR Revolver & semi-auto \n50 rounds of .22LR ammunition \nEar and eye protection \nTargets \n
URL:https://cabinrange.com/event/handguns-101-4/
CATEGORIES:Classes
END:VEVENT
BEGIN:VEVENT
DTSTART;TZID=America/New_York:20190915T130000
DTEND;TZID=America/New_York:20190915T150000
DTSTAMP:20260424T064423
CREATED:20190827T191301Z
LAST-MODIFIED:20190827T191301Z
UID:2176-1568552400-1568559600@cabinrange.com
SUMMARY:Situational Awareness Seminar
DESCRIPTION:Situational Awareness is a frame of mind in which you are relaxed\, yet aware of your surroundings and of whom or what could be of help to you if a problem were to arise. \nIn these seminars you will learn how to develop the proper mindset to take responsibility for your own security\, and to trust your intuition or “gut” feelings when it comes to your surroundings. \nSeminars can be designed for schools\, places of worship\, or your workplace. \n$20 \nhttps://www.inner10training.com/ \n
URL:https://cabinrange.com/event/situational-awareness-seminar-2/
CATEGORIES:Seminars
END:VEVENT
END:VCALENDAR