BEGIN:VCALENDAR
VERSION:2.0
PRODID:-//The Cabin Armory &amp; Training Center | Indoor Gun Range &amp; Gun Store in Wilkes-Barre, Pennsylvania - ECPv4.9.14//NONSGML v1.0//EN
CALSCALE:GREGORIAN
METHOD:PUBLISH
X-WR-CALNAME:The Cabin Armory &amp; Training Center | Indoor Gun Range &amp; Gun Store in Wilkes-Barre, Pennsylvania
X-ORIGINAL-URL:https://cabinrange.com
X-WR-CALDESC:Events for The Cabin Armory &amp; Training Center | Indoor Gun Range &amp; Gun Store in Wilkes-Barre, Pennsylvania
BEGIN:VTIMEZONE
TZID:America/New_York
BEGIN:DAYLIGHT
TZOFFSETFROM:-0500
TZOFFSETTO:-0400
TZNAME:EDT
DTSTART:20200308T070000
END:DAYLIGHT
BEGIN:STANDARD
TZOFFSETFROM:-0400
TZOFFSETTO:-0500
TZNAME:EST
DTSTART:20201101T060000
END:STANDARD
END:VTIMEZONE
BEGIN:VEVENT
DTSTART;TZID=America/New_York:20200209T090000
DTEND;TZID=America/New_York:20200209T180000
DTSTAMP:20260424T002451
CREATED:20200125T174951Z
LAST-MODIFIED:20200125T175135Z
UID:2496-1581238800-1581271200@cabinrange.com
SUMMARY:NRA Basics of Rifle Shooting
DESCRIPTION:This course teaches the basic knowledge\, skills and attitude necessary for the safe use of a rifle in target shooting. This course is at least eight hours long and includes classroom and range time learning to shoot rifles. Students learn NRA’s rules for safe gun handling; rifle parts and operation; ammunition; shooting fundamentals; range rules; shooting from the bench rest\, prone\, sitting\, standing and kneeling positions; cleaning; and continued opportunities for skill development. Students will receive the Basics of Rifle Shooting handbook\, NRA Gun Safety Rules brochure\, Winchester/NRA Marksmanship Qualification booklet\, take a Basics of Rifle Shooting Student Examination\, and receive a course completion certificate. \n$150 \n
URL:https://cabinrange.com/event/nra-basics-of-rifle-shooting-2/
CATEGORIES:Classes
END:VEVENT
BEGIN:VEVENT
DTSTART;TZID=America/New_York:20200209T100000
DTEND;TZID=America/New_York:20200209T120000
DTSTAMP:20260424T002451
CREATED:20200125T175345Z
LAST-MODIFIED:20200125T175402Z
UID:2503-1581242400-1581249600@cabinrange.com
SUMMARY:Breakfast & Bullets with the Wilkes-Barre A Girl & A Gun chapter
DESCRIPTION:Join us for Breakfast & Bullets hosted by the Wilkes-Barre A Girl & A Gun chapter and the Cabin Armory & Training Center. Both members & non-members of A Girl & A Gun are welcome to attend! We will hit the range for an hour\, wash up and enjoy a hot breakfast hosted by the Cabin’s cafe.  \nWith enough participants\, we will have our own 9 lane range! Shooters of all skill levels are welcome to attend.  \nCabin Range fees for non-members of the Cabin are $10 (normally $18 lane fee) and for Bullets and Breakfast\, the food buffet is also $10. Fee for Non-AG&AG members is $8 and for members it’s free.  For example:\nBullets & Breakfast:\n1. Non-Cabin\, Non- AG&AG members would be $10 range\, $10 breakfast\, $8 AG&AG = $28\n2. Non-Cabin Member & AG&AG member = $20 (food + range fee)\n3. Cabin member & AG&AG member = $10 food \nAttendees are required to wear eye and eye protection and follow the range rules including policies on reloads and general safety guidelines. \nYou may bring your own firearm however\, the range also offers firearm rentals\, ammunition\, ear and eye protection for purchase and rentals if you do not have your own so these items are not necessary for you to attend.  \nContact group facilitator Jeanette Elbattah for questions about the event 5706907225 \nJoin this chapter here –> https://www.agirlandagun.org/cat/pa-wilkes-barre/ \nSee Vendor Coupons (must be a member to get the codes) –> https://www.agirlandagun.org/vendors/ \nMembership Perks –> https://www.agirlandagun.org/about-us/membership/ \n
URL:https://cabinrange.com/event/breakfast-bullets-with-the-wilkes-barre-a-girl-a-gun-chapter/
CATEGORIES:Classes,Seminars
END:VEVENT
END:VCALENDAR